BEGIN:VCALENDAR
VERSION:2.0
PRODID:-//SA Läänemaa - ECPv6.15.20//NONSGML v1.0//EN
CALSCALE:GREGORIAN
METHOD:PUBLISH
X-WR-CALNAME:SA Läänemaa
X-ORIGINAL-URL:https://laanemaa.ee
X-WR-CALDESC:Events for SA Läänemaa
REFRESH-INTERVAL;VALUE=DURATION:PT1H
X-Robots-Tag:noindex
X-PUBLISHED-TTL:PT1H
BEGIN:VTIMEZONE
TZID:Europe/Tallinn
BEGIN:DAYLIGHT
TZOFFSETFROM:+0200
TZOFFSETTO:+0300
TZNAME:EEST
DTSTART:20250330T010000
END:DAYLIGHT
BEGIN:STANDARD
TZOFFSETFROM:+0300
TZOFFSETTO:+0200
TZNAME:EET
DTSTART:20251026T010000
END:STANDARD
BEGIN:DAYLIGHT
TZOFFSETFROM:+0200
TZOFFSETTO:+0300
TZNAME:EEST
DTSTART:20260329T010000
END:DAYLIGHT
BEGIN:STANDARD
TZOFFSETFROM:+0300
TZOFFSETTO:+0200
TZNAME:EET
DTSTART:20261025T010000
END:STANDARD
BEGIN:DAYLIGHT
TZOFFSETFROM:+0200
TZOFFSETTO:+0300
TZNAME:EEST
DTSTART:20270328T010000
END:DAYLIGHT
BEGIN:STANDARD
TZOFFSETFROM:+0300
TZOFFSETTO:+0200
TZNAME:EET
DTSTART:20271031T010000
END:STANDARD
END:VTIMEZONE
BEGIN:VEVENT
DTSTART;TZID=Europe/Tallinn:20260318T080000
DTEND;TZID=Europe/Tallinn:20260318T170000
DTSTAMP:20260421T131335
CREATED:20250527T073419Z
LAST-MODIFIED:20250527T073505Z
UID:1769110-1773820800-1773853200@laanemaa.ee
SUMMARY:Arukate õpilaste Akadeemia
DESCRIPTION:Arukate õpilaste Akadeemia VI mäng
URL:https://laanemaa.ee/event/arukate-opilaste-akadeemia-6/
END:VEVENT
BEGIN:VEVENT
DTSTART;TZID=Europe/Tallinn:20260318T093000
DTEND;TZID=Europe/Tallinn:20260318T150000
DTSTAMP:20260421T131335
CREATED:20260113T134651Z
LAST-MODIFIED:20260113T134655Z
UID:1770798-1773826200-1773846000@laanemaa.ee
SUMMARY:Läänemaa koolinoorte meistrivõistlused võrkpallis 7.-12. klass P;T
DESCRIPTION:
URL:https://laanemaa.ee/event/laanemaa-koolinoorte-meistrivoistlused-vorkpallis-7-12-klass-pt/
LOCATION:Haapsalu Wiedemanni Spordihoone
END:VEVENT
END:VCALENDAR